{
 "currentVersion": 10.81,
 "serviceDescription": "Base map GCS",
 "mapName": "Layers",
 "description": "",
 "copyrightText": "MR",
 "supportsDynamicLayers": true,
 "layers": [
  {
   "id": 0,
   "name": "DPE Basemap",
   "parentLayerId": -1,
   "defaultVisibility": true,
   "subLayerIds": null,
   "minScale": 0,
   "maxScale": 0,
   "type": "Feature Layer",
   "geometryType": "esriGeometryPolygon"
  }
 ],
 "tables": [],
 "spatialReference": {
  "wkid": 4283,
  "latestWkid": 4283
 },
 "singleFusedMapCache": true,
 "tileInfo": {
  "rows": 1024,
  "cols": 1024,
  "dpi": 96,
  "format": "PNG8",
  "compressionQuality": 0,
  "origin": {
   "x": -400,
   "y": 400
  },
  "spatialReference": {
   "wkid": 4283,
   "latestWkid": 4283
  },
  "lods": [
   {
    "level": 0,
    "resolution": 0.15228550437313793,
    "scale": 64000000
   },
   {
    "level": 1,
    "resolution": 0.07614275218656896,
    "scale": 32000000
   },
   {
    "level": 2,
    "resolution": 0.03807137609328448,
    "scale": 16000000
   },
   {
    "level": 3,
    "resolution": 0.01903568804664224,
    "scale": 8000000
   },
   {
    "level": 4,
    "resolution": 0.00951784402332112,
    "scale": 4000000
   },
   {
    "level": 5,
    "resolution": 0.00475892201166056,
    "scale": 2000000
   },
   {
    "level": 6,
    "resolution": 0.00237946100583028,
    "scale": 1000000
   },
   {
    "level": 7,
    "resolution": 0.00118973050291514,
    "scale": 500000
   },
   {
    "level": 8,
    "resolution": 5.9486525145757E-4,
    "scale": 250000
   },
   {
    "level": 9,
    "resolution": 2.97432625728785E-4,
    "scale": 125000
   },
   {
    "level": 10,
    "resolution": 1.5228550437313792E-4,
    "scale": 64000
   },
   {
    "level": 11,
    "resolution": 7.614275218656896E-5,
    "scale": 32000
   },
   {
    "level": 12,
    "resolution": 3.807137609328448E-5,
    "scale": 16000
   },
   {
    "level": 13,
    "resolution": 1.903568804664224E-5,
    "scale": 8000
   },
   {
    "level": 14,
    "resolution": 9.51784402332112E-6,
    "scale": 4000
   },
   {
    "level": 15,
    "resolution": 4.75892201166056E-6,
    "scale": 2000
   },
   {
    "level": 16,
    "resolution": 2.37946100583028E-6,
    "scale": 1000
   }
  ]
 },
 "initialExtent": {
  "xmin": 140.24597716016953,
  "ymin": -34.48873423253959,
  "xmax": 154.39187283983054,
  "ymax": -27.50501618042772,
  "spatialReference": {
   "wkid": 4283,
   "latestWkid": 4283
  }
 },
 "fullExtent": {
  "xmin": 106.00000000000006,
  "ymin": -47.99999999999994,
  "xmax": 174.0000000000001,
  "ymax": -3.999999999999943,
  "spatialReference": {
   "wkid": 4283,
   "latestWkid": 4283
  }
 },
 "minScale": 64000000,
 "maxScale": 1000,
 "minLOD": 0,
 "maxLOD": 16,
 "units": "esriDecimalDegrees",
 "supportedImageFormatTypes": "PNG32,PNG24,PNG,JPG,DIB,TIFF,EMF,PS,PDF,GIF,SVG,SVGZ,BMP",
 "documentInfo": {
  "Title": "Base map",
  "Author": "MR",
  "Comments": "Base map GCS",
  "Subject": "Base map GCS",
  "Category": "",
  "AntialiasingMode": "None",
  "TextAntialiasingMode": "Force",
  "Keywords": "basemap"
 },
 "capabilities": "Map,Query,Data",
 "supportedQueryFormats": "JSON, geoJSON",
 "exportTilesAllowed": false,
 "referenceScale": 0,
 "supportsDatumTransformation": true,
 "maxRecordCount": 1000,
 "maxImageHeight": 4096,
 "maxImageWidth": 4096,
 "supportedExtensions": ""
}
