{
 "currentVersion": 10.81,
 "serviceDescription": "Fire/GEEBAM_Sentinel2_PostFire_Satellite_Image",
 "name": "Fire/GEEBAM_Sentinel2_PostFire_Satellite_Image",
 "description": "",
 "extent": {
  "xmin": 146.99999868296908,
  "ymin": -38.00008399118191,
  "xmax": 154.00012053447043,
  "ymax": -26.99998875831737,
  "spatialReference": {
   "wkid": 4326,
   "latestWkid": 4326
  }
 },
 "initialExtent": {
  "xmin": 146.99999868296908,
  "ymin": -38.00008399118191,
  "xmax": 154.00012053447043,
  "ymax": -26.99998875831737,
  "spatialReference": {
   "wkid": 4326,
   "latestWkid": 4326
  }
 },
 "fullExtent": {
  "xmin": 146.99999868296908,
  "ymin": -38.00008399118191,
  "xmax": 154.00012053447043,
  "ymax": -26.99998875831737,
  "spatialReference": {
   "wkid": 4326,
   "latestWkid": 4326
  }
 },
 "pixelSizeX": 1.3474729261792778E-4,
 "pixelSizeY": 1.3474729261792783E-4,
 "bandCount": 3,
 "pixelType": "U16",
 "minPixelSize": 0,
 "maxPixelSize": 0,
 "copyrightText": "",
 "serviceDataType": "esriImageServiceDataTypeGeneric",
 "minValues": [
  0,
  0,
  0
 ],
 "maxValues": [
  15435,
  16624,
  15263
 ],
 "meanValues": [
  1454.3432235383,
  1130.8159812126,
  1111.0102685258
 ],
 "stdvValues": [
  1646.6851739297,
  1200.5544408181,
  1347.0430001723
 ],
 "objectIdField": "",
 "fields": [],
 "capabilities": "Image,Metadata,Mensuration",
 "defaultMosaicMethod": "Center",
 "allowedMosaicMethods": "",
 "sortField": "",
 "sortValue": null,
 "sortAscending": true,
 "mosaicOperator": "First",
 "defaultCompressionQuality": 75,
 "defaultResamplingMethod": "Bilinear",
 "maxImageHeight": 4100,
 "maxImageWidth": 15000,
 "allowRasterFunction": true,
 "rasterFunctionInfos": [
  {
   "name": "None",
   "description": "",
   "help": ""
  }
 ],
 "rasterTypeInfos": [
  {
   "name": "Raster Dataset",
   "description": "Supports all ArcGIS Raster Datasets",
   "help": ""
  }
 ],
 "mensurationCapabilities": "Basic",
 "hasHistograms": true,
 "hasColormap": false,
 "hasRasterAttributeTable": false,
 "minScale": 0,
 "maxScale": 0,
 "exportTilesAllowed": false,
 "hasMultidimensions": false,
 "supportsStatistics": false,
 "supportsAdvancedQueries": false,
 "editFieldsInfo": null,
 "ownershipBasedAccessControlForRasters": null,
 "allowComputeTiePoints": false,
 "useStandardizedQueries": false,
 "advancedQueryCapabilities": {
  "useStandardizedQueries": false,
  "supportsStatistics": false,
  "supportsOrderBy": false,
  "supportsDistinct": false,
  "supportsPagination": false
 },
 "spatialReference": {
  "wkid": 4326,
  "latestWkid": 4326
 }
}
