View In:
ArcGIS JavaScript
ArcGIS Online Map Viewer
ArcGIS Earth
ArcMap
View Footprint In:
ArcGIS Online Map Viewer
Service Description: Fire/GEEBAM_dNBR_Vegetation_Index
Name: Fire/GEEBAM_dNBR_Vegetation_Index
Description:
Single Fused Map Cache: false
Extent:
XMin: 146.99999868296908
YMin: -38.00008399118192
XMax: 154.00012053447043
YMax: -27.059816556239745
Spatial Reference: 4326
(4326)
Initial Extent:
XMin: 146.99999868296908
YMin: -38.00008399118192
XMax: 154.00012053447043
YMax: -27.059816556239745
Spatial Reference: 4326
(4326)
Full Extent:
XMin: 146.99999868296908
YMin: -38.00008399118192
XMax: 154.00012053447043
YMax: -27.059816556239745
Spatial Reference: 4326
(4326)
Pixel Size X: 1.3474729261792778E-4
Pixel Size Y: 1.3474729261792775E-4
Band Count: 1
Pixel Type: F32
RasterFunction Infos: {"rasterFunctionInfos": [{
"name": "None",
"description": "",
"help": ""
}]}
Mensuration Capabilities: Basic
Has Histograms: true
Has Colormap: false
Has Multi Dimensions : false
Rendering Rule:
Min Scale: 0
Max Scale: 0
Copyright Text:
Service Data Type: esriImageServiceDataTypeGeneric
Min Values: -1.6962019205093
Max Values: 1.5788362026215
Mean Values: 0.45076815533592
Standard Deviation Values: 0.28816939244811
Object ID Field:
Fields:
None
Default Mosaic Method: Center
Allowed Mosaic Methods:
SortField:
SortValue: null
Mosaic Operator: First
Default Compression Quality: 75
Default Resampling Method: Bilinear
Max Record Count: null
Max Image Height: 4100
Max Image Width: 15000
Max Download Image Count: null
Max Mosaic Image Count: null
Allow Raster Function: true
Allow Copy: null
Allow Analysis: null
Allow Compute TiePoints: false
Supports Statistics: false
Supports Advanced Queries: false
Use StandardizedQueries: false
Raster Type Infos:
Name: Raster Dataset
Description: Supports all ArcGIS Raster Datasets
Help:
Has Raster Attribute Table: false
Edit Fields Info: null
Ownership Based AccessControl For Rasters: null
Child Resources:
Info
Histograms
Key Properties
Legend
Raster Function Infos
Supported Operations:
Export Image
Identify
Measure
Compute Histograms
Compute Statistics Histograms
Get Samples
Compute Class Statistics
Query Boundary
Compute Pixel Location
Validate
Project